BEGIN:VCALENDAR
VERSION:2.0
PRODID:-//North American Peruvian Horse Association | NAPHA - ECPv6.15.20//NONSGML v1.0//EN
CALSCALE:GREGORIAN
METHOD:PUBLISH
X-ORIGINAL-URL:https://www.napha.net
X-WR-CALDESC:Events for North American Peruvian Horse Association | NAPHA
REFRESH-INTERVAL;VALUE=DURATION:PT1H
X-Robots-Tag:noindex
X-PUBLISHED-TTL:PT1H
BEGIN:VTIMEZONE
TZID:America/Denver
BEGIN:DAYLIGHT
TZOFFSETFROM:-0700
TZOFFSETTO:-0600
TZNAME:MDT
DTSTART:20250309T090000
END:DAYLIGHT
BEGIN:STANDARD
TZOFFSETFROM:-0600
TZOFFSETTO:-0700
TZNAME:MST
DTSTART:20251102T080000
END:STANDARD
BEGIN:DAYLIGHT
TZOFFSETFROM:-0700
TZOFFSETTO:-0600
TZNAME:MDT
DTSTART:20260308T090000
END:DAYLIGHT
BEGIN:STANDARD
TZOFFSETFROM:-0600
TZOFFSETTO:-0700
TZNAME:MST
DTSTART:20261101T080000
END:STANDARD
BEGIN:DAYLIGHT
TZOFFSETFROM:-0700
TZOFFSETTO:-0600
TZNAME:MDT
DTSTART:20270314T090000
END:DAYLIGHT
BEGIN:STANDARD
TZOFFSETFROM:-0600
TZOFFSETTO:-0700
TZNAME:MST
DTSTART:20271107T080000
END:STANDARD
END:VTIMEZONE
BEGIN:VEVENT
DTSTART;VALUE=DATE:20260619
DTEND;VALUE=DATE:20260623
DTSTAMP:20260424T194825
CREATED:20251124T194455Z
LAST-MODIFIED:20251124T194617Z
UID:26291-1781870400-1782129599@www.napha.net
SUMMARY:Gold Rush Classic
DESCRIPTION:Date: June 19-21\, 2026 \nLocation: South Point Casino & Resort in Las Vegas \nJudges: RGPHC\, Elsa Abad de Puga\, and for SCPPHC\, Chris Austin \nFor more information: Contact Joseph Chandler @ 760-586-5538 or email jpcbew@icloud.com
URL:https://www.napha.net/event-list/gold-rush-classic-4/
LOCATION:South Point Equestrian Center\, 9777 S. Las Vegas Blvd\, Las Vegas\, NV\, 89183\, United States
END:VEVENT
BEGIN:VEVENT
DTSTART;VALUE=DATE:20260724
DTEND;VALUE=DATE:20260728
DTSTAMP:20260424T194825
CREATED:20250822T205904Z
LAST-MODIFIED:20250823T221823Z
UID:26043-1784894400-1785153599@www.napha.net
SUMMARY:Norte y Sur Peruvian Horse Championships
DESCRIPTION:Date: July 24-26\, 2026 \nJudges: Kim Montee Cavataio ~ Northwest Peruvian Championships & Chris Austin ~ Canadian National Show \nLocation: Evergreen Equestrian Park located in Monroe\, WA \nFor more information contact: Deb Cones 403-860-9763 or deb.cones@gmail.com
URL:https://www.napha.net/event-list/norte-y-sur-peruvian-horse-championships/
LOCATION:Evergreen Equestrian Park\, Monroe\, WA\, United States
END:VEVENT
BEGIN:VEVENT
DTSTART;VALUE=DATE:20260807
DTEND;VALUE=DATE:20260811
DTSTAMP:20260424T194825
CREATED:20260411T221031Z
LAST-MODIFIED:20260411T221031Z
UID:26379-1786104000-1786363199@www.napha.net
SUMMARY:Fiesta del Norte & Northern Lights Peruvian Horse Double Show
DESCRIPTION:August 7-9\, 2026 \nEllsworth Equestrian Center\, Iowa Falls\, IA \nJudges: TBD \nFor more information: Contact Chelsey Schaal 920-373-4002 or eldoradoperuvians@yahoo.com OR aura.austin@me.com
URL:https://www.napha.net/event-list/fiesta-del-norte-northern-lights-peruvian-horse-double-show/
LOCATION:Ellsworth Equestrian Center\, 709 Ellsworth Ave\, Iowa Falls\, IA\, 50126\, United States
END:VEVENT
BEGIN:VEVENT
DTSTART;VALUE=DATE:20260904
DTEND;VALUE=DATE:20260908
DTSTAMP:20260424T194825
CREATED:20250823T222334Z
LAST-MODIFIED:20260411T223038Z
UID:26056-1788523200-1788782399@www.napha.net
SUMMARY:2026 NAPHA National Show
DESCRIPTION:Dates: September 4-6\, 2026 \nJudge: Jose “Pepe” Risso Montes of Lima\, Peru \nLocation: OK State Fairgrounds (NOT during fair) \nContact: Athena Averette 330-701-3365 or athenaaverette@gmail.com OR Mary Kay Santos 951-452-1224 or marykaysan@aol.com
URL:https://www.napha.net/event-list/2026-national-show/
LOCATION:Jim Norick Arena/OK State Fair Grounds\, 333 Gordon Cooper Boulevard\, Oklahoma City\, OK\, United States
END:VEVENT
BEGIN:VEVENT
DTSTART;VALUE=DATE:20261030
DTEND;VALUE=DATE:20261103
DTSTAMP:20260424T194825
CREATED:20260411T222201Z
LAST-MODIFIED:20260411T222201Z
UID:26381-1793361600-1793620799@www.napha.net
SUMMARY:Spooktacular Triple Show
DESCRIPTION:Date: October 30-November 1\, 2026 \nJudges: TBD \nLocation: Temecula California \nFor More Information: Joe Chandler 760-586-5538 or jcpbew@icloud.com
URL:https://www.napha.net/event-list/spooktacular-triple-show/
LOCATION:California Ranch Company\, 43101 Anza Rd.\, Temecula\, CA\, 92592\, United States
END:VEVENT
END:VCALENDAR