BEGIN:VCALENDAR
VERSION:2.0
PRODID:-//North American Peruvian Horse Association | NAPHA - ECPv6.15.20//NONSGML v1.0//EN
CALSCALE:GREGORIAN
METHOD:PUBLISH
X-WR-CALNAME:North American Peruvian Horse Association | NAPHA
X-ORIGINAL-URL:https://www.napha.net
X-WR-CALDESC:Events for North American Peruvian Horse Association | NAPHA
REFRESH-INTERVAL;VALUE=DURATION:PT1H
X-Robots-Tag:noindex
X-PUBLISHED-TTL:PT1H
BEGIN:VTIMEZONE
TZID:America/Denver
BEGIN:DAYLIGHT
TZOFFSETFROM:-0700
TZOFFSETTO:-0600
TZNAME:MDT
DTSTART:20190310T090000
END:DAYLIGHT
BEGIN:STANDARD
TZOFFSETFROM:-0600
TZOFFSETTO:-0700
TZNAME:MST
DTSTART:20191103T080000
END:STANDARD
BEGIN:DAYLIGHT
TZOFFSETFROM:-0700
TZOFFSETTO:-0600
TZNAME:MDT
DTSTART:20200308T090000
END:DAYLIGHT
BEGIN:STANDARD
TZOFFSETFROM:-0600
TZOFFSETTO:-0700
TZNAME:MST
DTSTART:20201101T080000
END:STANDARD
BEGIN:DAYLIGHT
TZOFFSETFROM:-0700
TZOFFSETTO:-0600
TZNAME:MDT
DTSTART:20210314T090000
END:DAYLIGHT
BEGIN:STANDARD
TZOFFSETFROM:-0600
TZOFFSETTO:-0700
TZNAME:MST
DTSTART:20211107T080000
END:STANDARD
BEGIN:DAYLIGHT
TZOFFSETFROM:-0700
TZOFFSETTO:-0600
TZNAME:MDT
DTSTART:20220313T090000
END:DAYLIGHT
BEGIN:STANDARD
TZOFFSETFROM:-0600
TZOFFSETTO:-0700
TZNAME:MST
DTSTART:20221106T080000
END:STANDARD
BEGIN:DAYLIGHT
TZOFFSETFROM:-0700
TZOFFSETTO:-0600
TZNAME:MDT
DTSTART:20230312T090000
END:DAYLIGHT
BEGIN:STANDARD
TZOFFSETFROM:-0600
TZOFFSETTO:-0700
TZNAME:MST
DTSTART:20231105T080000
END:STANDARD
END:VTIMEZONE
BEGIN:VTIMEZONE
TZID:UTC
BEGIN:STANDARD
TZOFFSETFROM:+0000
TZOFFSETTO:+0000
TZNAME:UTC
DTSTART:20210101T000000
END:STANDARD
END:VTIMEZONE
BEGIN:VTIMEZONE
TZID:America/Los_Angeles
BEGIN:DAYLIGHT
TZOFFSETFROM:-0800
TZOFFSETTO:-0700
TZNAME:PDT
DTSTART:20180311T100000
END:DAYLIGHT
BEGIN:STANDARD
TZOFFSETFROM:-0700
TZOFFSETTO:-0800
TZNAME:PST
DTSTART:20181104T090000
END:STANDARD
BEGIN:DAYLIGHT
TZOFFSETFROM:-0800
TZOFFSETTO:-0700
TZNAME:PDT
DTSTART:20190310T100000
END:DAYLIGHT
BEGIN:STANDARD
TZOFFSETFROM:-0700
TZOFFSETTO:-0800
TZNAME:PST
DTSTART:20191103T090000
END:STANDARD
BEGIN:DAYLIGHT
TZOFFSETFROM:-0800
TZOFFSETTO:-0700
TZNAME:PDT
DTSTART:20200308T100000
END:DAYLIGHT
BEGIN:STANDARD
TZOFFSETFROM:-0700
TZOFFSETTO:-0800
TZNAME:PST
DTSTART:20201101T090000
END:STANDARD
BEGIN:DAYLIGHT
TZOFFSETFROM:-0800
TZOFFSETTO:-0700
TZNAME:PDT
DTSTART:20210314T100000
END:DAYLIGHT
BEGIN:STANDARD
TZOFFSETFROM:-0700
TZOFFSETTO:-0800
TZNAME:PST
DTSTART:20211107T090000
END:STANDARD
BEGIN:DAYLIGHT
TZOFFSETFROM:-0800
TZOFFSETTO:-0700
TZNAME:PDT
DTSTART:20220313T100000
END:DAYLIGHT
BEGIN:STANDARD
TZOFFSETFROM:-0700
TZOFFSETTO:-0800
TZNAME:PST
DTSTART:20221106T090000
END:STANDARD
END:VTIMEZONE
BEGIN:VEVENT
DTSTART;VALUE=DATE:20220826
DTEND;VALUE=DATE:20220829
DTSTAMP:20260425T061925
CREATED:20220120T211022Z
LAST-MODIFIED:20220120T211022Z
UID:23469-1661472000-1661731199@www.napha.net
SUMMARY:Canadian National Show
DESCRIPTION:August 26-28\, 2022 \nStanley\, Alberta\, Canada \nDeb.Cones@Gmail.com
URL:https://www.napha.net/event-list/canadian-national-show/
END:VEVENT
BEGIN:VEVENT
DTSTART;VALUE=DATE:20220820
DTEND;VALUE=DATE:20220822
DTSTAMP:20260425T061925
CREATED:20220119T003135Z
LAST-MODIFIED:20220723T175143Z
UID:23433-1660953600-1661126399@www.napha.net
SUMMARY:Pacific Coast and Grand Championship Show
DESCRIPTION:Pacific Coast and Grand Championship Show\nAugust 20-21\nNazario Villafuerte (PERU) – Grand Championship\nLarry Underwood (USA) (Grand Championship)\n\nGalway Downs\nTemecula\, CA\n\nEntry Form\nPremium
URL:https://www.napha.net/event-list/pacific-coast-and-grand-championship-show/
LOCATION:Galway Downs\, 38801 Los Corralitos Rd\, Temecula\, CA\, 92592\, United States
END:VEVENT
BEGIN:VEVENT
DTSTART;VALUE=DATE:20220812
DTEND;VALUE=DATE:20220815
DTSTAMP:20260425T061925
CREATED:20220119T003326Z
LAST-MODIFIED:20220418T134104Z
UID:23435-1660262400-1660521599@www.napha.net
SUMMARY:Fiesta del Norte and Northern Lights Double Show
DESCRIPTION:Fiesta del Norte and Northern Lights Double Show – August 12-14\nLocation:\nEllsworth Equestrian Center\nIowa Falls\, Iowa\nContact: Joy Larsen \nJudges: Lucho Dapelo & Kelley Powers
URL:https://www.napha.net/event-list/fiesta-del-norte-and-northern-lights-double-show-2/
LOCATION:Ellsworth Equestrian Center\, 709 Ellsworth Ave\, Iowa Falls\, IA\, 50126\, United States
END:VEVENT
BEGIN:VEVENT
DTSTART;VALUE=DATE:20220729
DTEND;VALUE=DATE:20220801
DTSTAMP:20260425T061925
CREATED:20220602T172637Z
LAST-MODIFIED:20220602T172637Z
UID:23933-1659052800-1659311999@www.napha.net
SUMMARY:Northwest Championship Peruvian Horse Show
DESCRIPTION:NPHC Show Premium 2022 Classes Only 22 March 22 REVISED \nJudge: Enrique Rizo Patron Baro \nFor additional information call 360-301-3923
URL:https://www.napha.net/event-list/northwest-championship-peruvian-horse-show/
LOCATION:Evergreen State Fairgrounds\, 14405 179th Ave SE\, Monroe\, WA\, 98272\, United States
END:VEVENT
BEGIN:VEVENT
DTSTART;VALUE=DATE:20220624
DTEND;VALUE=DATE:20220627
DTSTAMP:20260425T061925
CREATED:20220111T233115Z
LAST-MODIFIED:20220415T133320Z
UID:23297-1656028800-1656287999@www.napha.net
SUMMARY:Gold Rush Classic
DESCRIPTION:Gold Rush Classic Peruvian Horse Show\n\nJune 24-26\, 2022\nJudges:\nGold Rush Classic Judge: Rolando Garcia\nSCPPHC Spring Classic Judge: Andres Ponciano\n\nSouth Point arena and equestrian center\nLas Vegas\, NV\n\nWWW.GOLDRUSHCLASSIC.COM
URL:https://www.napha.net/event-list/gold-rush-classic-2/
LOCATION:South Point Equestrian Center\, 9777 S. Las Vegas Blvd\, Las Vegas\, NV\, 89183\, United States
END:VEVENT
BEGIN:VEVENT
DTSTART;VALUE=DATE:20220527
DTEND;VALUE=DATE:20220530
DTSTAMP:20260425T061925
CREATED:20220108T191222Z
LAST-MODIFIED:20220415T132353Z
UID:23261-1653609600-1653868799@www.napha.net
SUMMARY:Sooner State Show
DESCRIPTION:Sooner State Peruvian Show \nMay 27-29\, 2022 \nDuncan\, Ok \nPete Arnold\n300 Johnson Creek Rd.\nJefferson\, TX 75657\n817-681-9646 \npkarnold88@gmail.com \nJudge: Dante Mazzi \nPremium \nEntry Form Pg 1 \nEntry Form Pg 2 \nEntry Form Pg 3 \n 
URL:https://www.napha.net/event-list/sooner-state-show/
LOCATION:Stephens County Expo Center\, 2002 South 13th Street\, Duncan\, OK\, 73533\, United States
END:VEVENT
BEGIN:VEVENT
DTSTART;VALUE=DATE:20220416
DTEND;VALUE=DATE:20220418
DTSTAMP:20260425T061925
CREATED:20220126T181534Z
LAST-MODIFIED:20220201T191237Z
UID:23508-1650067200-1650239999@www.napha.net
SUMMARY:Peruvian Paso Horse World Show
DESCRIPTION:Peruvian Paso Horse World Show \nApril 16-17 \n1390 NW 80th Avenue \nOcala\, Florida \nJudges: Luis Vasquez Nacarino and Jose Vasquez \nContact: Juvy Pina \n305-815-3545 \nhttps://www.pph-worldshow.com/
URL:https://www.napha.net/event-list/peruvian-paso-horse-world-show-2/
LOCATION:World Equestrian Center – Ocala\, 1390 NW 80th Avenue\, Ocala\, FL\, 34482\, United States
ORGANIZER;CN="World Peruvian Horse Show":MAILTO:jpina@internationalmmfund.com
END:VEVENT
BEGIN:VEVENT
DTSTART;VALUE=DATE:20220319
DTEND;VALUE=DATE:20220321
DTSTAMP:20260425T061925
CREATED:20220109T191800Z
LAST-MODIFIED:20220126T180757Z
UID:23267-1647648000-1647820799@www.napha.net
SUMMARY:Carousel Charity Horse Show - Peruvian Division
DESCRIPTION:March 17-20\, 2022 \nPeruvian Classes 3/19-20/22 \nWest World of Scottsdale \nJudge: Chris Austin \nShow Contact: Liz Potof \nepotof@yahoo.com \n602-799-4913 \nEntry and Prizelist Below \nhttps://www.arizonasaddlebreds.org/carousel-charity.html
URL:https://www.napha.net/event-list/carousel-charity-horse-show-peruvian-division/
LOCATION:Westworld of Scottsdale\, 16601 N Pima Rd\,\, Scottsdale\, AZ\, 85260\, United States
END:VEVENT
BEGIN:VEVENT
DTSTART;VALUE=DATE:20211211
DTEND;VALUE=DATE:20211213
DTSTAMP:20260425T061925
CREATED:20211103T062152Z
LAST-MODIFIED:20211110T052038Z
UID:23113-1639180800-1639353599@www.napha.net
SUMMARY:2021 NAPHA Cyber Show III
DESCRIPTION:Judges: (In accordance with NAPHA rules\, Judges are not to be contacted before nor during the show.) \n\nMimi Busk-Downey – Canada\nLuis (Lucho) Dapelo – Texas\n\nCost: \n\nNAPHA Members. $25 per class\nNon-Members: $35 per class\n\nOne-on-one with a judge after the show. $10 per class review.\n(This opportunity was created for exhibitors to have an opportunity to communicate with one of the judges about their video ride) \nIs your video horse for sale? We can add a For Sale banner on your video. \nNAPHA members – $35 per class\nNon-member – $45 per class \n  \nThese videos will remain on our YouTube Channel\, allowing you to also forward potential buyers your video(s). \nAll Information
URL:https://www.napha.net/event-list/2021-napha-cyber-show-iii/
LOCATION:NAPHA Facebook Page
CATEGORIES:NAPHA Event
ATTACH;FMTTYPE=image/png:https://www.napha.net/wp-content/uploads/2021/11/cyber-3-post-2.png
ORGANIZER;CN="NAPHA Cyber Show":MAILTO:cyber@napha.net
END:VEVENT
BEGIN:VEVENT
DTSTART;VALUE=DATE:20210924
DTEND;VALUE=DATE:20210927
DTSTAMP:20260425T061925
CREATED:20210120T032929Z
LAST-MODIFIED:20210311T061932Z
UID:7064-1632441600-1632700799@www.napha.net
SUMMARY:NAPHA US National Show
DESCRIPTION:The 2021 National Show will be held during the 2021 Oklahoma State Fair in Oklahoma City\, OK. This is a great opportunity to promote our breed before a large number of spectators that we would normally not have access to. We are planning the following activities to take advantage of this opportunity. \nInformational NAPHA booth in the fairgrounds: The booth will be manned by two fulltime attendants. It will have 3 ipads or computer screens constantly playing sponsors videos. Attendants will hand out breed and ranch promotional materials to fairgoers. Last year’s fair drew close to 1 million fairgoers in 10 days and we can expect to attract 1 to 3 thousand to our venue per day. \nShow Webcast: The show will be livestreamed as in years past and we will feature promotional ranch ads and videos during the show. In the last livestream we had over 12\,000 views. \nShow Website: We will be promoting the show with an informational show website starting in early April. It will also have ranch ads and videos from our sponsors. \nFacebook Page: We will also have a show Facebook page to promote the show and webpage in social media. \nShow Program. Given the number of spectators we expect this year’s Show program to be a lot more effective advertisement. \nOnsite Advertisement: No commercial advertisement is allowed in the fairgrounds as the fair holds all advertisement rights. However\, we have been allowed 8 ranch banners and we believe this will be a great means of advertisement given the expected number of spectators. \nClass Sponsorship: Ranch sponsorships will include one Championship class sponsorship. Preferred Stalls. Stall location will provide a lot of foot traffic exposure. Ranch sponsors will get\nPreferred stalls. \n  \nPlease contact the NAPHA office for additional information:\nAdvertising options\nShow & Class Sponsorships\nStall assignments\n(707) 544-5807 \nView Past Champions \nView 2019 Show Results \nView 2018 Show Results \nView 2017 Show Results \nView 2016 Show Results \nView 2015 Show Results \nView USEF Majority Opinion Three Judge Scoring Results \nView 2014 Show Results \nView 2013 Show Results
URL:https://www.napha.net/event-list/napha-us-national-show/
LOCATION:Oklahoma State Fairgrounds\, 3001 General Pershing Blvd\, Oklahoma City\, OK\, 73107\, United States
CATEGORIES:NAPHA Event,Peruvian Horse Show
ATTACH;FMTTYPE=image/png:https://www.napha.net/wp-content/uploads/2019/12/NAPHA-round.png
ORGANIZER;CN="North American Peruvian Horse Association":MAILTO:naomi@napha.net
END:VEVENT
BEGIN:VEVENT
DTSTART;VALUE=DATE:20210827
DTEND;VALUE=DATE:20210830
DTSTAMP:20260425T061925
CREATED:20180514T231329Z
LAST-MODIFIED:20210316T193755Z
UID:6982-1630022400-1630281599@www.napha.net
SUMMARY:Canadian National Championship Show
DESCRIPTION:Silver State Arena\nStavely Alberta\, Canada\nJudge:  Honorable Lionel Peralta\nContact: Deb Cones\ndeb.cones@gmail.com \nView Past Champions \nView 2019 Show Results \nView 2018 Show Results \nView 2017 Show Results \nView 2016 Show Results \nView 2015 Show Results \nView 2014 Show Results \n 
URL:https://www.napha.net/event-list/canadian-national-championship-show/
LOCATION:Silver Slate Arena\, Range Road 274\, Nanton\, Alberta\, T0L 1R0\, Canada
CATEGORIES:Peruvian Horse Show
ORGANIZER;CN="Peruvian Horse Association of Canada":MAILTO:gusmccollister@efirehose.net
END:VEVENT
BEGIN:VEVENT
DTSTART;VALUE=DATE:20210821
DTEND;VALUE=DATE:20210823
DTSTAMP:20260425T061925
CREATED:20180515T021308Z
LAST-MODIFIED:20210316T073610Z
UID:7056-1629504000-1629676799@www.napha.net
SUMMARY:SCPPHC Pacific Coast/Grand Championshiip Show
DESCRIPTION:Pacific Coast and SoCal Peruvian Horse Club \nLocation: Galaway Downs\nTemecula\, CA (OUTDOOR SHOW!)\nPacific Coast Judge: Amador Carrera\nGrand Championship Judge: Lucho Dapelo \nContact:\nPatty LaCrox  619-709-6397 placroix8@gmail.com\nRobin James  951-544-4166 diamondvalleyperuvians@gmail.com \n \nSouthern California Peruvian Paso Horse Club \n  \nView Past Champions – Fall Classic \nView Past Champions – Grand Championship \nView Past Champions – Pacific Coast \nView 2019 Show Results \nView 2018 Show Results \nView 2017 Show Results \nView 2016 Show Results \nView 2015 Show Results \nView 2014 Show Results \nView 2013 Show Results
URL:https://www.napha.net/event-list/scpphc-pacific-coast-grand-championship-double-show/
LOCATION:Galway Downs\, 38801 Los Corralitos Rd\, Temecula\, CA\, 92592\, United States
CATEGORIES:Peruvian Horse Show
ATTACH;FMTTYPE=image/jpeg:https://www.napha.net/wp-content/uploads/2018/05/Opening-ceremonies_O0A5520-scaled.jpg
END:VEVENT
BEGIN:VEVENT
DTSTART;VALUE=DATE:20210813
DTEND;VALUE=DATE:20210816
DTSTAMP:20260425T061925
CREATED:20210428T124956Z
LAST-MODIFIED:20210428T125930Z
UID:22490-1628812800-1629071999@www.napha.net
SUMMARY:Fiesta del Norte and Northern Lights Double Show
DESCRIPTION:Location:\nEllsworth Equestrian Center\nIowa Falls\, Iowa \nJudges:\nLarry Underwood and Dante Mazzi \nContact:\nJoy Larsen Ritter\njoy.larsen@ritterinc.net \n  \n 
URL:https://www.napha.net/event-list/fiesta-del-norte-and-northern-lights-double-show/
LOCATION:Ellsworth Equestrian Center\, 709 Ellsworth Ave\, Iowa Falls\, IA\, 50126\, United States
CATEGORIES:Peruvian Horse Show
END:VEVENT
BEGIN:VEVENT
DTSTART;TZID=America/Denver:20210726T090000
DTEND;TZID=America/Denver:20210726T130000
DTSTAMP:20260425T061925
CREATED:20210514T023754Z
LAST-MODIFIED:20210514T031352Z
UID:22539-1627290000-1627304400@www.napha.net
SUMMARY:Recreational Riders Trail Ride
DESCRIPTION:Come to Colorado for the Centennial State/Southwest show\, stay for the first-ever Recreation Riders trail ride through the Garden of the Gods. This top tourist attraction makes for an unforgettable horseback trip through scenic Colorado. Your $20 donation covers the cost of a commemorative patch and supports Recreational Rider programs. Enter our ride photo contest for a chance to win a pair of Scoot Boots! Email Kerry McGinley for more info. \n\n\n                \n                        Name(Required)\n                            \n                            \n                                                    \n                                                    First\n                                                \n                            \n                            \n                                                    \n                                                    Last\n                                                \n                            \n                        Email(Required)\n                            \n                        Phone(Required)Single Ticket\n					\n					\n						Price:\n						\n					\n					\n				Fill out this form multiple times to sign up multiple people. Credit CardCard Details\n					\n					Cardholder Name
URL:https://www.napha.net/event-list/recreational-riders-trail-ride/
LOCATION:Garden of the Gods\, Colorado Springs\, CO\, United States
CATEGORIES:NAPHA Event
ATTACH;FMTTYPE=image/jpeg:https://www.napha.net/wp-content/uploads/2021/05/GoG-red-rocks.jpg
ORGANIZER;CN="Kerry McGinley":MAILTO:kerrymcg@aol.com
END:VEVENT
BEGIN:VEVENT
DTSTART;VALUE=DATE:20210723
DTEND;VALUE=DATE:20210726
DTSTAMP:20260425T061925
CREATED:20180515T020102Z
LAST-MODIFIED:20210221T193826Z
UID:7052-1626998400-1627257599@www.napha.net
SUMMARY:Double Peruvian Horse Festival - 9th MAPHC Championship and NEPHC 33rd Championship
DESCRIPTION:Location:\nFrying Pan Park\nHerndon\, VA \nJudges:\nTBA \nContact:\nCarlos Valverde\n301-302-2750 \nView Past Champions – Mid Atlantic \nView Past Champions – Eastern Regional \nView 2019 Show Results \nView 2018 Show Results \nView 2017 Show Results \nView 2016 Show Results \nView 2015 Show Results \nView 2014 Show Results \nView 2013 Show Results
URL:https://www.napha.net/event-list/mid-atlantic-double-championship-show/
LOCATION:Frying Pan Park\, 2709 West Ox Road\, Herndon\, VA\, 20171\, United States
CATEGORIES:Peruvian Horse Show
END:VEVENT
BEGIN:VEVENT
DTSTART;VALUE=DATE:20210723
DTEND;VALUE=DATE:20210726
DTSTAMP:20260425T061925
CREATED:20180515T015031Z
LAST-MODIFIED:20210415T171918Z
UID:7046-1626998400-1627257599@www.napha.net
SUMMARY:Centennial State / Southwest (Double Show)
DESCRIPTION:Location:\nFive Star Equestrian Center \nFountain\, Colorado \nJudges:\nJanic Arllentar\nNicholas Breaux \nContact: \nJoan Boyd\njolawe1333@kellin.net \nView Past Champions \nView 2019 Show Results \nView 2018 Show Results \nView 2017 Show Results \nView 2016 Show Results \nView 2015 Show Results \nView 2014 Show Results \nView 2013 Show Results
URL:https://www.napha.net/event-list/centennial-state-championship-show/
LOCATION:Five Star Equestrian Center\, 18550 Midway Ranch Rd\, Fountain\, CO\, 80817\, United States
CATEGORIES:Peruvian Horse Show
END:VEVENT
BEGIN:VEVENT
DTSTART;TZID=America/Denver:20210619T090000
DTEND;TZID=America/Denver:20210620T170000
DTSTAMP:20260425T061925
CREATED:20210414T164430Z
LAST-MODIFIED:20210428T130058Z
UID:22438-1624093200-1624208400@www.napha.net
SUMMARY:Los Amigos Peruvian Horse Show
DESCRIPTION:June 19-20\, 2021\nHansen Dam Horse Park\n11127 Orcas Ave\nLake View Terrace\, CA 91342\nJudge- The Honorable Renzo Crolle Claux from Peru \n 
URL:https://www.napha.net/event-list/los-amigos-peruvian-horse-show-3/
CATEGORIES:Peruvian Horse Show
END:VEVENT
BEGIN:VEVENT
DTSTART;VALUE=DATE:20210528
DTEND;VALUE=DATE:20210531
DTSTAMP:20260425T061925
CREATED:20180515T001459Z
LAST-MODIFIED:20210222T024430Z
UID:7005-1622160000-1622419199@www.napha.net
SUMMARY:Sooner State & Camino Real (Double Show)
DESCRIPTION:Location:\nStephens Co. Expo\nDuncan\, OK \nJudges: \nCamino Real – Danell Adams\nSooner State – Larry Underwood \nContact:\nNaomi Scull\n(405) 613-9841\nfscull@hotmail.com \nView Past Champions – Sooner State \nView Past Champions – Camino Real \nView 2019 Show Results \nView 2018 Show Results – double show with Camino Real \nView 2017 Show Results – double show with Camino Real \nView 2016 Show Results – double show with Southwest \nView 2015 Show Results – Sooner State \nView 2014 Show Results – Sooner State \nView 2013 Show Results – Sooner State
URL:https://www.napha.net/event-list/camino-real-sooner-state-double-show/
LOCATION:Stephens County Expo Center\, 2002 South 13th Street\, Duncan\, OK\, 73533\, United States
CATEGORIES:Peruvian Horse Show
ATTACH;FMTTYPE=image/png:https://www.napha.net/wp-content/uploads/2018/05/gI_150064_ade5def8b7c71a9e5bec9862350b60dc-320x320-1.png
END:VEVENT
BEGIN:VEVENT
DTSTART;VALUE=DATE:20210403
DTEND;VALUE=DATE:20210405
DTSTAMP:20260425T061925
CREATED:20210122T171520Z
LAST-MODIFIED:20210225T000123Z
UID:16733-1617408000-1617580799@www.napha.net
SUMMARY:Gait Away Championship Double Show
DESCRIPTION:
URL:https://www.napha.net/event-list/gait-away-and-west-way-championship-reruvian-horse-double-show/
LOCATION:National Equestrian Center\, 6880 Lake St. Louis Blvd\, Lake\, MO\, 63367\, United States
CATEGORIES:Peruvian Horse Show
ATTACH;FMTTYPE=image/jpeg:https://www.napha.net/wp-content/uploads/2021/01/LOGO-Gait-Away-first-draft.jpg
ORGANIZER;CN="Paul Opdyke":MAILTO:paul.opdyke@outlook.com
END:VEVENT
BEGIN:VEVENT
DTSTART;VALUE=DATE:20210311
DTEND;VALUE=DATE:20210315
DTSTAMP:20260425T061925
CREATED:20210122T211810Z
LAST-MODIFIED:20210122T211916Z
UID:21793-1615420800-1615766399@www.napha.net
SUMMARY:Carousel Charity Horse Show
DESCRIPTION:All Breed-Peruvian Division
URL:https://www.napha.net/event-list/carousel-charity-horse-show-2/
LOCATION:Westworld of Scottsdale\, 16601 N Pima Rd\,\, Scottsdale\, AZ\, 85260\, United States
ATTACH;FMTTYPE=image/jpeg:https://www.napha.net/wp-content/uploads/2013/11/carousel_charity_show.jpg
ORGANIZER;CN="Liz Pot of Copper State Peruvian Horse Club":MAILTO:epotof@yahoo.com
END:VEVENT
BEGIN:VEVENT
DTSTART;VALUE=DATE:20200925
DTEND;VALUE=DATE:20200928
DTSTAMP:20260425T061925
CREATED:20200209T193718Z
LAST-MODIFIED:20200209T193718Z
UID:19073-1600992000-1601251199@www.napha.net
SUMMARY:National Show
DESCRIPTION:NATIONAL SHOW\nSeptember 25-27\, 2020\nOklahoma State Fairgrounds\nOklahoma City\, OK\nJudge: Honorable Chris Austin\nMore information coming! Mark the dates!
URL:https://www.napha.net/event-list/national-show/
LOCATION:Oklahoma State Fairgrounds\, 3001 General Pershing Blvd\, Oklahoma City\, OK\, 73107\, United States
CATEGORIES:Member Event
END:VEVENT
BEGIN:VEVENT
DTSTART;TZID=America/Denver:20200627T080000
DTEND;TZID=America/Denver:20200628T170000
DTSTAMP:20260425T061925
CREATED:20200605T184905Z
LAST-MODIFIED:20200605T185208Z
UID:20275-1593244800-1593363600@www.napha.net
SUMMARY:2020 NAPHA Cyber Show
DESCRIPTION:Full Information Web Page \nJudges: \nDanell Adams\, Mimi Busk-Downey\, Lucho Dapelo\, Fernando Risso\, Jose Vasquez
URL:https://www.napha.net/event-list/2020-napha-cyber-show/
LOCATION:NAPHA Facebook Page
CATEGORIES:NAPHA Event
ATTACH;FMTTYPE=image/png:https://www.napha.net/wp-content/uploads/2020/06/2020-NAPHA-Cyber-Show.png
ORGANIZER;CN="NAPHA Cyber Show":MAILTO:cyber@napha.net
END:VEVENT
BEGIN:VEVENT
DTSTART;VALUE=DATE:20200619
DTEND;VALUE=DATE:20200622
DTSTAMP:20260425T061925
CREATED:20180514T233248Z
LAST-MODIFIED:20200402T182033Z
UID:6995-1592524800-1592783999@www.napha.net
SUMMARY:Gold Rush Classic Peruvian Horse Show
DESCRIPTION:Canceled due to Virus Guidelines \nSoCal Peruvian Paso Horse Club Spring Classic\nRio Grande Peruvian Horse Show \nLocation: South Point Events Center\nLas Vegas\, NV\nSpring Classic Judge: Oscar “Pico” Emilio Castillo\nRio Grande Judge: Kim Montee Cavataoi \nContact: Linda West\nlindawest12@gmail.com\n760-215-2621 \nView Past Champions List – Rio Grande \nView Past Champions List – Spring Classic \nView 2019 Show Results \nView 2018 Show Results \nView 2017 Show Results \nView 2016 Show Results \nView 2015 Show Results \nView 2014 Show Results \nView 2013 Show Results
URL:https://www.napha.net/event-list/gold-rush-classic/
LOCATION:South Point Equestrian Center\, 9777 S. Las Vegas Blvd\, Las Vegas\, NV\, 89183\, United States
CATEGORIES:Peruvian Horse Show
END:VEVENT
BEGIN:VEVENT
DTSTART;VALUE=DATE:20200509
DTEND;VALUE=DATE:20200511
DTSTAMP:20260425T061925
CREATED:20200203T193806Z
LAST-MODIFIED:20200416T181710Z
UID:18924-1588982400-1589155199@www.napha.net
SUMMARY:Los Amigos Peruvian Horse Show
DESCRIPTION:Date Change Coming Soon\n\nHansen Dam Equestrian Center\n11127 Orcas Avenue\nLake View Terrace\, CA 91342\nTBA\, 2020\nJudge: SR Renzo Crolle\nContact: Vanita Mann 831-801-8765
URL:https://www.napha.net/event-list/los-amigos-peruvian-horse-show-2/
LOCATION:Hansen Dam Equestrian Center\, 11127 Orcas Avenue\, Lake View Terrace\, CA\, 91342\, United States
CATEGORIES:Regional Club Event
END:VEVENT
BEGIN:VEVENT
DTSTART;VALUE=DATE:20200314
DTEND;VALUE=DATE:20200316
DTSTAMP:20260425T061925
CREATED:20200203T184441Z
LAST-MODIFIED:20200215T074717Z
UID:18917-1584144000-1584316799@www.napha.net
SUMMARY:Peruvian Paso Horse World Show
DESCRIPTION:Tropical Park\n7900 SW 40th St.\nMiami\, FL 33155\nMarch 14-15\, 2020\nJudge: Mimi Busk-Downey\nContact: Juvy Pina – 786-866-8792\n\nClass List_2020\nEntry Form PPH word show
URL:https://www.napha.net/event-list/peruvian-paso-horse-world-show/
LOCATION:Tropical Park\, 7900 SW 40th St.\, Miami\, FL\, 33155\, United States
CATEGORIES:Peruvian Horse Show
ATTACH;FMTTYPE=image/jpeg:https://www.napha.net/wp-content/uploads/2020/02/PPHShow.jpg
END:VEVENT
BEGIN:VEVENT
DTSTART;VALUE=DATE:20190810
DTEND;VALUE=DATE:20190812
DTSTAMP:20260425T061925
CREATED:20180515T013801Z
LAST-MODIFIED:20200305T224512Z
UID:7041-1565395200-1565567999@www.napha.net
SUMMARY:Fiesta del Norte & Northern Lights Double Show
DESCRIPTION:Ellsworth Equestrian Center\nIowa Falls\, IA\nNorthern Lights Judge – Joseph Chandler\nFiesta del Norte Judge – Janic Arllentar\nShow Steward – Gail Stevens\nContact: Joy Larsen Ritter\n(218) 838 9700\nContact by Email \nView Past Champions – Fiesta del Norte \nView Past Champions – Northern Lights \nView 2019 Show Results \nView 2018 Show Results \nView 2017 Show Results \nView 2016 Show Results \nView 2015 Show Results \nView 2014 Show Results \nView 2013 Show Results
URL:https://www.napha.net/event-list/fiesta-del-norte-northern-lights-double-show/
LOCATION:Ellsworth Equestrian Center\, 709 Ellsworth Ave\, Iowa Falls\, IA\, 50126\, United States
CATEGORIES:Peruvian Horse Show
END:VEVENT
BEGIN:VEVENT
DTSTART;VALUE=DATE:20190720
DTEND;VALUE=DATE:20190722
DTSTAMP:20260425T061925
CREATED:20180514T232027Z
LAST-MODIFIED:20190820T162035Z
UID:6989-1563580800-1563753599@www.napha.net
SUMMARY:Los Amigos Peruvian Horse Show
DESCRIPTION:July 20-21\, 2019\nEarl Warren Showgrounds\nSanta Barbara\, CA\nJudge: Rolando Garcia\nNAPHA Show Steward: Thea Pichel\nContact: Joline Hahn\n(760) 963 2340\njolinebel@aol.com \nView Past Champions List \nView 2019 Show Results \nView 2018 Show Results \nView 2016 Show Results (triple show w/SCPPHC) \nView 2015 Show Results \nView 2014 Show Results LA \nView 2013 Show Results \n  \n  \n 
URL:https://www.napha.net/event-list/los-amigos-peruvian-horse-show/
LOCATION:Earl Warren Equestrian Center\, 3400 Calle Real\, Santa Barbara\, CA\, 93105\, United States
CATEGORIES:Peruvian Horse Show
ORGANIZER;CN="Los Amigos Peruvian Paso Club":MAILTO:jolinebel@aol.com
END:VEVENT
BEGIN:VEVENT
DTSTART;VALUE=DATE:20190518
DTEND;VALUE=DATE:20190520
DTSTAMP:20260425T061925
CREATED:20190220T124323Z
LAST-MODIFIED:20190220T124323Z
UID:8727-1558137600-1558310399@www.napha.net
SUMMARY:Trail Horse Certification Clinic and Test 
DESCRIPTION:May 18-19\, 2019\n\nLocation: Transition Ranch\, Brackettville\, TX\n\nSponsored by: Leslee Hurwitz\n\nJudge: Merri Chester\n\nContact Leslee Hurwitz for more information at leslee@transitionranch.com
URL:https://www.napha.net/event-list/trail-horse-certification-clinic-and-test-2/
CATEGORIES:Trail Horse Testing
END:VEVENT
BEGIN:VEVENT
DTSTART;VALUE=DATE:20190314
DTEND;VALUE=DATE:20190318
DTSTAMP:20260425T061925
CREATED:20180514T204613Z
LAST-MODIFIED:20200115T051013Z
UID:6962-1552521600-1552867199@www.napha.net
SUMMARY:Carousel Horse Show
DESCRIPTION:***Carousel Charity Horse Show\nMarch 12-15\, 2020 \nWest World Scottsdale\, AZ\nNAPHA Judge: The Honorable Julio Andres Ponciano\nNAPHA Show Steward: Irene Taylor\nShow Manager: Kent Moeller\nContact:: Liz Potof\n(602) 799-4913\nContact by Email \nView Past Champions List \nView 2019 Show Results \nView 2018 Show Results \nView 2014 Show Results
URL:https://www.napha.net/event-list/carousel-charity-horse-show/
LOCATION:Westworld of Scottsdale\, 16601 N Pima Rd\,\, Scottsdale\, AZ\, 85260\, United States
CATEGORIES:Peruvian Horse Show
ORGANIZER;CN="Liz Pot of Copper State Peruvian Horse Club":MAILTO:epotof@yahoo.com
END:VEVENT
BEGIN:VEVENT
DTSTART;VALUE=DATE:20190302
DTEND;VALUE=DATE:20190304
DTSTAMP:20260425T061925
CREATED:20180514T203233Z
LAST-MODIFIED:20190401T190351Z
UID:6956-1551484800-1551657599@www.napha.net
SUMMARY:World Peruvian Horse Show
DESCRIPTION:March 2-3\, 2019\nRonald Reagan Equestrian Center\nMiami\, FL\nNAPHA Judge: Chris Austin\nNAPHA Show Steward: Joyce Russell\nContact: Juvy Pina\n(305) 815 3545\njpina@pphworldshow.com \nView Past Champions List \nView 2019 Show Results \nView 2018 Show Results \nView 2017 Show Results
URL:https://www.napha.net/event-list/world-peruvian-horse-show/
LOCATION:Ronald Reagan Equestrian Center\, Tropical Park 7900 SW 40th St\, Miami\, FL\, 33155\, United States
CATEGORIES:Peruvian Horse Show
ORGANIZER;CN="World Peruvian Horse Show":MAILTO:jpina@internationalmmfund.com
END:VEVENT
END:VCALENDAR