BEGIN:VCALENDAR
VERSION:2.0
PRODID:-//North American Peruvian Horse Association | NAPHA - ECPv6.15.20//NONSGML v1.0//EN
CALSCALE:GREGORIAN
METHOD:PUBLISH
X-WR-CALNAME:North American Peruvian Horse Association | NAPHA
X-ORIGINAL-URL:https://www.napha.net
X-WR-CALDESC:Events for North American Peruvian Horse Association | NAPHA
REFRESH-INTERVAL;VALUE=DURATION:PT1H
X-Robots-Tag:noindex
X-PUBLISHED-TTL:PT1H
BEGIN:VTIMEZONE
TZID:America/Los_Angeles
BEGIN:DAYLIGHT
TZOFFSETFROM:-0800
TZOFFSETTO:-0700
TZNAME:PDT
DTSTART:20170312T100000
END:DAYLIGHT
BEGIN:STANDARD
TZOFFSETFROM:-0700
TZOFFSETTO:-0800
TZNAME:PST
DTSTART:20171105T090000
END:STANDARD
BEGIN:DAYLIGHT
TZOFFSETFROM:-0800
TZOFFSETTO:-0700
TZNAME:PDT
DTSTART:20180311T100000
END:DAYLIGHT
BEGIN:STANDARD
TZOFFSETFROM:-0700
TZOFFSETTO:-0800
TZNAME:PST
DTSTART:20181104T090000
END:STANDARD
BEGIN:DAYLIGHT
TZOFFSETFROM:-0800
TZOFFSETTO:-0700
TZNAME:PDT
DTSTART:20190310T100000
END:DAYLIGHT
BEGIN:STANDARD
TZOFFSETFROM:-0700
TZOFFSETTO:-0800
TZNAME:PST
DTSTART:20191103T090000
END:STANDARD
BEGIN:DAYLIGHT
TZOFFSETFROM:-0800
TZOFFSETTO:-0700
TZNAME:PDT
DTSTART:20200308T100000
END:DAYLIGHT
BEGIN:STANDARD
TZOFFSETFROM:-0700
TZOFFSETTO:-0800
TZNAME:PST
DTSTART:20201101T090000
END:STANDARD
END:VTIMEZONE
BEGIN:VEVENT
DTSTART;VALUE=DATE:20190302
DTEND;VALUE=DATE:20190304
DTSTAMP:20260425T124324
CREATED:20180514T203233Z
LAST-MODIFIED:20190401T190351Z
UID:6956-1551484800-1551657599@www.napha.net
SUMMARY:World Peruvian Horse Show
DESCRIPTION:March 2-3\, 2019\nRonald Reagan Equestrian Center\nMiami\, FL\nNAPHA Judge: Chris Austin\nNAPHA Show Steward: Joyce Russell\nContact: Juvy Pina\n(305) 815 3545\njpina@pphworldshow.com \nView Past Champions List \nView 2019 Show Results \nView 2018 Show Results \nView 2017 Show Results
URL:https://www.napha.net/event-list/world-peruvian-horse-show/
LOCATION:Ronald Reagan Equestrian Center\, Tropical Park 7900 SW 40th St\, Miami\, FL\, 33155\, United States
CATEGORIES:Peruvian Horse Show
ORGANIZER;CN="World Peruvian Horse Show":MAILTO:jpina@internationalmmfund.com
END:VEVENT
BEGIN:VEVENT
DTSTART;TZID=America/Los_Angeles:20180825T080000
DTEND;TZID=America/Los_Angeles:20180826T170000
DTSTAMP:20260425T124324
CREATED:20180515T013252Z
LAST-MODIFIED:20190305T183940Z
UID:7035-1535184000-1535302800@www.napha.net
SUMMARY:Mission Trails Peruvian Horse Show
DESCRIPTION:Aug. 25-26\, 2018\nGalway Downs\nTemecula\, CA\nJudge: Ernesto Roca Dammert\nNAPHA Show Steward: Irene Taylor\nContact: Merlene Sutalo\n(760) 214 0440\nmerlenePDT@yahoo.com \nView Past Champions List  \nView 2018 Class Results \nView 2017 Class Results \nView 2016 Class Results
URL:https://www.napha.net/event-list/mission-trails-peruvian-horse-show/
LOCATION:Galway Downs\, 38801 Los Corralitos Rd\, Temecula\, CA\, 92592\, United States
CATEGORIES:Peruvian Horse Show
END:VEVENT
END:VCALENDAR