BEGIN:VCALENDAR
VERSION:2.0
PRODID:-//North American Peruvian Horse Association | NAPHA - ECPv6.15.20//NONSGML v1.0//EN
CALSCALE:GREGORIAN
METHOD:PUBLISH
X-ORIGINAL-URL:https://www.napha.net
X-WR-CALDESC:Events for North American Peruvian Horse Association | NAPHA
REFRESH-INTERVAL;VALUE=DURATION:PT1H
X-Robots-Tag:noindex
X-PUBLISHED-TTL:PT1H
BEGIN:VTIMEZONE
TZID:America/Denver
BEGIN:DAYLIGHT
TZOFFSETFROM:-0700
TZOFFSETTO:-0600
TZNAME:MDT
DTSTART:20250309T090000
END:DAYLIGHT
BEGIN:STANDARD
TZOFFSETFROM:-0600
TZOFFSETTO:-0700
TZNAME:MST
DTSTART:20251102T080000
END:STANDARD
BEGIN:DAYLIGHT
TZOFFSETFROM:-0700
TZOFFSETTO:-0600
TZNAME:MDT
DTSTART:20260308T090000
END:DAYLIGHT
BEGIN:STANDARD
TZOFFSETFROM:-0600
TZOFFSETTO:-0700
TZNAME:MST
DTSTART:20261101T080000
END:STANDARD
BEGIN:DAYLIGHT
TZOFFSETFROM:-0700
TZOFFSETTO:-0600
TZNAME:MDT
DTSTART:20270314T090000
END:DAYLIGHT
BEGIN:STANDARD
TZOFFSETFROM:-0600
TZOFFSETTO:-0700
TZNAME:MST
DTSTART:20271107T080000
END:STANDARD
END:VTIMEZONE
BEGIN:VEVENT
DTSTART;VALUE=DATE:20260724
DTEND;VALUE=DATE:20260728
DTSTAMP:20260424T194657
CREATED:20250822T205904Z
LAST-MODIFIED:20250823T221823Z
UID:26043-1784894400-1785153599@www.napha.net
SUMMARY:Norte y Sur Peruvian Horse Championships
DESCRIPTION:Date: July 24-26\, 2026 \nJudges: Kim Montee Cavataio ~ Northwest Peruvian Championships & Chris Austin ~ Canadian National Show \nLocation: Evergreen Equestrian Park located in Monroe\, WA \nFor more information contact: Deb Cones 403-860-9763 or deb.cones@gmail.com
URL:https://www.napha.net/event-list/norte-y-sur-peruvian-horse-championships/
LOCATION:Evergreen Equestrian Park\, Monroe\, WA\, United States
END:VEVENT
END:VCALENDAR