BEGIN:VCALENDAR
VERSION:2.0
PRODID:-//North American Peruvian Horse Association | NAPHA - ECPv6.15.20//NONSGML v1.0//EN
CALSCALE:GREGORIAN
METHOD:PUBLISH
X-ORIGINAL-URL:https://www.napha.net
X-WR-CALDESC:Events for North American Peruvian Horse Association | NAPHA
REFRESH-INTERVAL;VALUE=DURATION:PT1H
X-Robots-Tag:noindex
X-PUBLISHED-TTL:PT1H
BEGIN:VTIMEZONE
TZID:America/Denver
BEGIN:DAYLIGHT
TZOFFSETFROM:-0700
TZOFFSETTO:-0600
TZNAME:MDT
DTSTART:20250309T090000
END:DAYLIGHT
BEGIN:STANDARD
TZOFFSETFROM:-0600
TZOFFSETTO:-0700
TZNAME:MST
DTSTART:20251102T080000
END:STANDARD
BEGIN:DAYLIGHT
TZOFFSETFROM:-0700
TZOFFSETTO:-0600
TZNAME:MDT
DTSTART:20260308T090000
END:DAYLIGHT
BEGIN:STANDARD
TZOFFSETFROM:-0600
TZOFFSETTO:-0700
TZNAME:MST
DTSTART:20261101T080000
END:STANDARD
BEGIN:DAYLIGHT
TZOFFSETFROM:-0700
TZOFFSETTO:-0600
TZNAME:MDT
DTSTART:20270314T090000
END:DAYLIGHT
BEGIN:STANDARD
TZOFFSETFROM:-0600
TZOFFSETTO:-0700
TZNAME:MST
DTSTART:20271107T080000
END:STANDARD
END:VTIMEZONE
BEGIN:VEVENT
DTSTART;VALUE=DATE:20260807
DTEND;VALUE=DATE:20260811
DTSTAMP:20260424T210258
CREATED:20260411T221031Z
LAST-MODIFIED:20260411T221031Z
UID:26379-1786104000-1786363199@www.napha.net
SUMMARY:Fiesta del Norte & Northern Lights Peruvian Horse Double Show
DESCRIPTION:August 7-9\, 2026 \nEllsworth Equestrian Center\, Iowa Falls\, IA \nJudges: TBD \nFor more information: Contact Chelsey Schaal 920-373-4002 or eldoradoperuvians@yahoo.com OR aura.austin@me.com
URL:https://www.napha.net/event-list/fiesta-del-norte-northern-lights-peruvian-horse-double-show/
LOCATION:Ellsworth Equestrian Center\, 709 Ellsworth Ave\, Iowa Falls\, IA\, 50126\, United States
END:VEVENT
END:VCALENDAR